BEGIN:VCALENDAR
VERSION:2.0
PRODID:-//Plone.org//NONSGML plone.app.event//EN
X-WR-TIMEZONE:Brazil/East
BEGIN:VEVENT
SUMMARY:Oficina Portal Modelo
DTSTART;TZID=Brazil/East;VALUE=DATE-TIME:20140825T143000
DTEND;TZID=Brazil/East;VALUE=DATE-TIME:20140828T120000
DTSTAMP;VALUE=DATE-TIME:20260424T004714Z
UID:3c957d79b61c4ba8956d82d89d46d96d@www.manciolima.ac.leg.br
CONTACT:Fernando\, fernandointerlegis.l@eg.br\, http://www.interlegis.leg.
 br/eventos/2014/07/oficina-de-tecnologia-legislativa-roraima-rr
CREATED;VALUE=DATE-TIME:20140827T135544Z
DESCRIPTION:Oficina promovida pelo Interlegis para as câmaras municipais 
 que ainda não dispõem de portal na internet.
LAST-MODIFIED;VALUE=DATE-TIME:20140827T135856Z
LOCATION:Boa Vista - RR
URL:https://www.manciolima.ac.leg.br/institucional/eventos/oficina-interle
 gis
END:VEVENT
BEGIN:VTIMEZONE
TZID:Brazil/East
X-LIC-LOCATION:Brazil/East
BEGIN:STANDARD
DTSTART;VALUE=DATE-TIME:20140215T230000
TZNAME:BRT
TZOFFSETFROM:-0200
TZOFFSETTO:-0300
END:STANDARD
END:VTIMEZONE
END:VCALENDAR
